BEGIN:VCALENDAR
VERSION:2.0
PRODID:-//BegleiterNetzwerk Bochum gUG - ECPv6.15.20//NONSGML v1.0//EN
CALSCALE:GREGORIAN
METHOD:PUBLISH
X-WR-CALNAME:BegleiterNetzwerk Bochum gUG
X-ORIGINAL-URL:https://begleiter-netzwerk-bochum.de
X-WR-CALDESC:Veranstaltungen für BegleiterNetzwerk Bochum gUG
REFRESH-INTERVAL;VALUE=DURATION:PT1H
X-Robots-Tag:noindex
X-PUBLISHED-TTL:PT1H
BEGIN:VTIMEZONE
TZID:Europe/Berlin
BEGIN:DAYLIGHT
TZOFFSETFROM:+0100
TZOFFSETTO:+0200
TZNAME:CEST
DTSTART:20230326T010000
END:DAYLIGHT
BEGIN:STANDARD
TZOFFSETFROM:+0200
TZOFFSETTO:+0100
TZNAME:CET
DTSTART:20231029T010000
END:STANDARD
BEGIN:DAYLIGHT
TZOFFSETFROM:+0100
TZOFFSETTO:+0200
TZNAME:CEST
DTSTART:20240331T010000
END:DAYLIGHT
BEGIN:STANDARD
TZOFFSETFROM:+0200
TZOFFSETTO:+0100
TZNAME:CET
DTSTART:20241027T010000
END:STANDARD
BEGIN:DAYLIGHT
TZOFFSETFROM:+0100
TZOFFSETTO:+0200
TZNAME:CEST
DTSTART:20250330T010000
END:DAYLIGHT
BEGIN:STANDARD
TZOFFSETFROM:+0200
TZOFFSETTO:+0100
TZNAME:CET
DTSTART:20251026T010000
END:STANDARD
END:VTIMEZONE
BEGIN:VEVENT
DTSTART;TZID=Europe/Berlin:20240924T160000
DTEND;TZID=Europe/Berlin:20240924T173000
DTSTAMP:20260420T103602
CREATED:20240830T103512Z
LAST-MODIFIED:20240830T103512Z
UID:5288-1727193600-1727199000@begleiter-netzwerk-bochum.de
SUMMARY:„Wer bin ich – Was macht mich aus?“ – Workshop zur Biografiearbeit
DESCRIPTION:Biografiearbeit ist eine Methodik\, die nicht nur bei Menschen mit Demenz\, sondern allgemein bei pflegebedürftigen Menschen angewendet werden kann.\nEine Biografie ist die Beschreibung des Lebens einer Person. Wo kommt sie her? Was hat sie auf ihrem Lebensweg erlebt? Was sind ihre Stärken und Schwächen? Was mag sie und was nicht? Jeder Mensch hat eine individuelle Lebensgeschichte\, die niemals einer anderen gleichen kann. Diese Geschichten eines langen Lebens haben den alten und/oder erkrankten Menschen geprägt und bestimmen jetzt sein Verhalten\, seine Gewohnheiten\, Vorlieben und Empfindlichkeiten. \nIn diesem Workshop werden Ihnen Anregungen und Hilfestellung für eine gelungene Biografiearbeit mit Angehörigen oder Bewohner*innen gegeben. Gemeinsam wird erarbeitet: Was ist eigentlich wichtig? Was ist möglich? Und wie schreibe ich es auf\, um der Person eine Identität zu geben und damit ihre Pflege leichter zu machen? \nDie Teilnahme ist kostenlos. Eine Anmeldung bis zum 12.9.24 unter Linda.Rabe@diakonie-ruhr.de ist erforderlich.
URL:https://begleiter-netzwerk-bochum.de/kurs/wer-bin-ich-was-macht-mich-aus-workshop-zur-biografiearbeit/
LOCATION:Pauluskirche\, Grabenstraße 9\, Bochum\, 44787
CATEGORIES:Workshop
END:VEVENT
END:VCALENDAR