BEGIN:VCALENDAR
VERSION:2.0
PRODID:-//BegleiterNetzwerk Bochum gUG - ECPv6.15.20//NONSGML v1.0//EN
CALSCALE:GREGORIAN
METHOD:PUBLISH
X-WR-CALNAME:BegleiterNetzwerk Bochum gUG
X-ORIGINAL-URL:https://begleiter-netzwerk-bochum.de
X-WR-CALDESC:Veranstaltungen für BegleiterNetzwerk Bochum gUG
REFRESH-INTERVAL;VALUE=DURATION:PT1H
X-Robots-Tag:noindex
X-PUBLISHED-TTL:PT1H
BEGIN:VTIMEZONE
TZID:Europe/Berlin
BEGIN:DAYLIGHT
TZOFFSETFROM:+0100
TZOFFSETTO:+0200
TZNAME:CEST
DTSTART:20250330T010000
END:DAYLIGHT
BEGIN:STANDARD
TZOFFSETFROM:+0200
TZOFFSETTO:+0100
TZNAME:CET
DTSTART:20251026T010000
END:STANDARD
BEGIN:DAYLIGHT
TZOFFSETFROM:+0100
TZOFFSETTO:+0200
TZNAME:CEST
DTSTART:20260329T010000
END:DAYLIGHT
BEGIN:STANDARD
TZOFFSETFROM:+0200
TZOFFSETTO:+0100
TZNAME:CET
DTSTART:20261025T010000
END:STANDARD
BEGIN:DAYLIGHT
TZOFFSETFROM:+0100
TZOFFSETTO:+0200
TZNAME:CEST
DTSTART:20270328T010000
END:DAYLIGHT
BEGIN:STANDARD
TZOFFSETFROM:+0200
TZOFFSETTO:+0100
TZNAME:CET
DTSTART:20271031T010000
END:STANDARD
END:VTIMEZONE
BEGIN:VEVENT
DTSTART;TZID=Europe/Berlin:20260206T140000
DTEND;TZID=Europe/Berlin:20260206T160000
DTSTAMP:20260423T104110
CREATED:20260120T103143Z
LAST-MODIFIED:20260121T162303Z
UID:6105-1770386400-1770393600@begleiter-netzwerk-bochum.de
SUMMARY:Informationsveranstaltung - Ehrenamtliche helfen nach Schlaganfall
DESCRIPTION:Ehrenamtliche helfen nach Schlaganfall – Informationsveranstaltung am 06.02.2026 um 14 Uhr in der AWO-Begegnungsstätte Breddestraße 14 in Herne Die AWO-Kreisverbände Bochum und Herne sowie das BegleiterNetzwerk Bochum bilden ab Ende Februar 2026 ehrenamtliche Schlaganfall-Helfer*innen aus. Ziel ist es\, Menschen nach einem Schlaganfall und ihre Angehörigen im Alltag zu unterstützen und zu entlasten. Am Freitag\, 06.02.2026 um 14 Uhr findet eine Informationsveranstaltung in der AWO-Begegnungsstätte\, Breddestraße 14\, 44623 Herne\, statt. Dort wird das Kooperationsprojekt gemeinsam mit der Stiftung Deutsche Schlaganfall-Hilfe vorgestellt. Interessierte können sich informieren und direkt anmelden. Die Veranstaltung wird fachlich von Herrn Stricker (Stiftung Deutsche Schlaganfall-Hilfe) begleitet. Ehrenamtliche Schlaganfall-Helfer*innen unterstützen Betroffene u. a. durch Gespräche\, Spaziergänge\, gemeinsame Freizeitgestaltung\, praktische Hilfe und die Vermittlung von Beratungsangeboten. Sie schließen die Lücke nach der medizinischen Versorgung\, stärken die Lebensqualität der Betroffenen und entlasten Angehörige. Die kostenlose Schulung umfasst 40 Stunden und findet freitagnachmittags und/oder samstags zwischen Februar und Juli 2026 statt. Inhalte sind medizinische\, therapeutische und psychologische Grundlagen\, Kommunikation\, Sozialrecht und praxisnahes Wissen. Nach Abschluss erhalten die Teilnehmenden ein Zertifikat. Das Schulungskonzept wurde von der Stiftung Deutsche Schlaganfall-Hilfe gemeinsam mit der Hochschule für Gesundheit Bochum entwickelt. Ausbildungsorte sind die AWO-Begegnungsstätten in Herne und Bochum. Für Fragen steht Ulrike Gaus unter 02323 95240 (Herne) oder 0234 588 68 555 (Bochum) zur Verfügung.
URL:https://begleiter-netzwerk-bochum.de/kurs/informationsveranstaltung-ehrenamtliche-helfen-nach-schlaganfall/
LOCATION:AWO-Begegnungsstätte\, Breddestr. 14\, Herne\, 44623
CATEGORIES:Infoabend
ATTACH;FMTTYPE=image/jpeg:https://begleiter-netzwerk-bochum.de/wp-content/uploads/Logo-Stiftung-Deutsche-Schlaganfallhilfe.jpeg
ORGANIZER;CN="BegleiterNetzwerk Bochum":MAILTO:info@begleiter-netzwerk-bochum.de
END:VEVENT
END:VCALENDAR