BEGIN:VCALENDAR
VERSION:2.0
PRODID:-//BegleiterNetzwerk Bochum gUG - ECPv6.15.20//NONSGML v1.0//EN
CALSCALE:GREGORIAN
METHOD:PUBLISH
X-WR-CALNAME:BegleiterNetzwerk Bochum gUG
X-ORIGINAL-URL:https://begleiter-netzwerk-bochum.de
X-WR-CALDESC:Veranstaltungen für BegleiterNetzwerk Bochum gUG
REFRESH-INTERVAL;VALUE=DURATION:PT1H
X-Robots-Tag:noindex
X-PUBLISHED-TTL:PT1H
BEGIN:VTIMEZONE
TZID:Europe/Berlin
BEGIN:DAYLIGHT
TZOFFSETFROM:+0100
TZOFFSETTO:+0200
TZNAME:CEST
DTSTART:20240331T010000
END:DAYLIGHT
BEGIN:STANDARD
TZOFFSETFROM:+0200
TZOFFSETTO:+0100
TZNAME:CET
DTSTART:20241027T010000
END:STANDARD
BEGIN:DAYLIGHT
TZOFFSETFROM:+0100
TZOFFSETTO:+0200
TZNAME:CEST
DTSTART:20250330T010000
END:DAYLIGHT
BEGIN:STANDARD
TZOFFSETFROM:+0200
TZOFFSETTO:+0100
TZNAME:CET
DTSTART:20251026T010000
END:STANDARD
BEGIN:DAYLIGHT
TZOFFSETFROM:+0100
TZOFFSETTO:+0200
TZNAME:CEST
DTSTART:20260329T010000
END:DAYLIGHT
BEGIN:STANDARD
TZOFFSETFROM:+0200
TZOFFSETTO:+0100
TZNAME:CET
DTSTART:20261025T010000
END:STANDARD
END:VTIMEZONE
BEGIN:VEVENT
DTSTART;TZID=Europe/Berlin:20250917T140000
DTEND;TZID=Europe/Berlin:20250917T170000
DTSTAMP:20260423T081056
CREATED:20250606T152227Z
LAST-MODIFIED:20250702T140025Z
UID:5612-1758117600-1758128400@begleiter-netzwerk-bochum.de
SUMMARY:Bochumer Alzheimertag 2025
DESCRIPTION:Erneut lädt das seit über 15 Jahren engagierte Netzwerk Demenz Bochum zum Alzheimertag in die Quartiershalle der KoFabrik ein.  \nDer jährliche Bochumer Alzheimertag findet in Bochum statt\, organisiert vom Netzwerk Demenz Bochum und der Alzheimer Gesellschaft Bochum e.V. Der Alzheimertag ist eine Informationsveranstaltung mit Vorträgen und weiteren Angeboten für Betroffene\, Angehörige und Interessierte\, die im Netzwerk Demenz Bochum stattfindet. \nDie Veranstaltung findet in der Quartierhalle der KoFabrik\, Stühmeyerstraße 33\, 44787 Bochum statt. \nEs gibt Vorträge zu Themen wie Demenz\, personenzentrierte Begleitung\, und die Arbeit von Selbsthilfegruppen\, wie z.B. die der Alzheimer Gesellschaft Bochum. \nEs werden kostenfreie Betreuungsangebote für Angehörige von Menschen mit Demenz angeboten\, unterstützt von Tagespflegen wie der Tagespflege Rombacher Tor. \nDie Veranstaltungen dienen der Sensibilisierung und der Bereitstellung von Informationen und Unterstützung für Menschen mit Demenz und ihre Angehörigen.
URL:https://begleiter-netzwerk-bochum.de/kurs/bochumer-alzheimertag-2025/
LOCATION:Quartiershalle der KoFabrik\, Stühmeyerstrasse 33\, Bochum
CATEGORIES:Aktionen,Beratung,Fachtag,Infoabend
ATTACH;FMTTYPE=image/png:https://begleiter-netzwerk-bochum.de/wp-content/uploads/2025-07-02-Bochumer-Alzheimertag.png
END:VEVENT
END:VCALENDAR